BEGIN:VCALENDAR
VERSION:2.0
PRODID:-//Cancer Stage Shifting Initiative - ECPv6.8.2//NONSGML v1.0//EN
CALSCALE:GREGORIAN
METHOD:PUBLISH
X-WR-CALNAME:Cancer Stage Shifting Initiative
X-ORIGINAL-URL:https://shiftcancer.org
X-WR-CALDESC:Events for Cancer Stage Shifting Initiative
REFRESH-INTERVAL;VALUE=DURATION:PT1H
X-Robots-Tag:noindex
X-PUBLISHED-TTL:PT1H
BEGIN:VTIMEZONE
TZID:Asia/Karachi
BEGIN:STANDARD
TZOFFSETFROM:+0500
TZOFFSETTO:+0500
TZNAME:PKT
DTSTART:20230101T000000
END:STANDARD
END:VTIMEZONE
BEGIN:VEVENT
DTSTART;TZID=Asia/Karachi:20230813T140000
DTEND;TZID=Asia/Karachi:20230813T180000
DTSTAMP:20260422T095944
CREATED:20230731T172231Z
LAST-MODIFIED:20230731T173353Z
UID:1667-1691935200-1691949600@shiftcancer.org
SUMMARY:We Will Overcome: Navigating Obstacles to Breast Cancer Prevention and Care in Our Community 2023
DESCRIPTION:Join Tigerlily Foundation and Patient Power on August 13\, 2023 2 pm – 6 pm CT\, at Bridgeport Art Center’s Sculpture Garden. This afternoon of conversation and resource sharing about breast cancer prevention is available to attend in person and online. Highlights include interactive panel discussions with healthcare experts and breast cancer advocates\, resources from area medical centers including Northwestern and University of Chicago Comprehensive cancer centers\, and local non-profit organizations.
URL:https://shiftcancer.org/event/we-will-overcome-navigating-obstacles-to-breast-cancer-prevention-and-care-in-our-community-2023/
LOCATION:1200 W. 35th Street\, Chicago\, IL 60609
CATEGORIES:Partner Event
END:VEVENT
END:VCALENDAR